BEGIN:VCALENDAR
VERSION:2.0
PRODID:-//FAUST - ECPv6.11.0.1//NONSGML v1.0//EN
CALSCALE:GREGORIAN
METHOD:PUBLISH
X-WR-CALNAME:FAUST
X-ORIGINAL-URL:https://faust.izvrsna.hr
X-WR-CALDESC:Events for FAUST
REFRESH-INTERVAL;VALUE=DURATION:PT1H
X-Robots-Tag:noindex
X-PUBLISHED-TTL:PT1H
BEGIN:VTIMEZONE
TZID:Europe/Zagreb
BEGIN:DAYLIGHT
TZOFFSETFROM:+0100
TZOFFSETTO:+0200
TZNAME:CEST
DTSTART:20250330T010000
END:DAYLIGHT
BEGIN:STANDARD
TZOFFSETFROM:+0200
TZOFFSETTO:+0100
TZNAME:CET
DTSTART:20251026T010000
END:STANDARD
END:VTIMEZONE
BEGIN:VEVENT
DTSTART;TZID=Europe/Zagreb:20250902T160000
DTEND;TZID=Europe/Zagreb:20250902T180000
DTSTAMP:20260422T050037
CREATED:20250829T085348Z
LAST-MODIFIED:20250829T103743Z
UID:7438-1756828800-1756836000@faust.izvrsna.hr
SUMMARY:Studijski posjet  ORQA Dan 1
DESCRIPTION:Aktivnost 1.2 \nStudijski posjet  Dan 1 \nVrijeme: 15:00- \nRazgledavanje i uvodna radionica \nLOKACIJA: J.J. Strossmayera 341 Office C-1\, 31000\, Osijek
URL:https://faust.izvrsna.hr/event/studijski-posjet-orqa-dan-1/
LOCATION:ORQA\, J.J. Strossmayera 341 Office C-1\, Osijek\, 31000\, Croatia (Local Name: Hrvatska)
CATEGORIES:Studijski posjeti 1.2
END:VEVENT
BEGIN:VEVENT
DTSTART;TZID=Europe/Zagreb:20250903T090000
DTEND;TZID=Europe/Zagreb:20250903T130000
DTSTAMP:20260422T050037
CREATED:20250829T085513Z
LAST-MODIFIED:20250829T103757Z
UID:7441-1756890000-1756904400@faust.izvrsna.hr
SUMMARY:Studijski posjet ORQA Dan 2
DESCRIPTION:Aktivnost 1.2 \nStudijski posjet  Dan 2 \nVrijeme: cijeli dan \nRadionica 2 \nLOKACIJA: J.J. Strossmayera 341 Office C-1\, 31000\, Osijek
URL:https://faust.izvrsna.hr/event/studijski-posjet-orqa-dan-2/
LOCATION:ORQA\, J.J. Strossmayera 341 Office C-1\, Osijek\, 31000\, Croatia (Local Name: Hrvatska)
CATEGORIES:Studijski posjeti 1.2
END:VEVENT
BEGIN:VEVENT
DTSTART;TZID=Europe/Zagreb:20250904T090000
DTEND;TZID=Europe/Zagreb:20250904T130000
DTSTAMP:20260422T050037
CREATED:20250829T085557Z
LAST-MODIFIED:20250829T103819Z
UID:7443-1756976400-1756990800@faust.izvrsna.hr
SUMMARY:Studisjki posjet ORQA Dan 3
DESCRIPTION:Aktivnost 1.2 \nStudijski posjet  Dan 3 \nVrijeme: 9:00-14:00 \nRadionica 3 \nLOKACIJA: J.J. Strossmayera 341 Office C-1\, 31000\, Osijek
URL:https://faust.izvrsna.hr/event/studisjki-posjet-orqa-dan-3/
LOCATION:ORQA\, J.J. Strossmayera 341 Office C-1\, Osijek\, 31000\, Croatia (Local Name: Hrvatska)
CATEGORIES:Studijski posjeti 1.2
END:VEVENT
END:VCALENDAR