BEGIN:VCALENDAR
VERSION:2.0
PRODID:-//FAUST - ECPv6.11.0.1//NONSGML v1.0//EN
CALSCALE:GREGORIAN
METHOD:PUBLISH
X-WR-CALNAME:FAUST
X-ORIGINAL-URL:https://faust.izvrsna.hr
X-WR-CALDESC:Events for FAUST
REFRESH-INTERVAL;VALUE=DURATION:PT1H
X-Robots-Tag:noindex
X-PUBLISHED-TTL:PT1H
BEGIN:VTIMEZONE
TZID:Europe/Zagreb
BEGIN:DAYLIGHT
TZOFFSETFROM:+0100
TZOFFSETTO:+0200
TZNAME:CEST
DTSTART:20260329T010000
END:DAYLIGHT
BEGIN:STANDARD
TZOFFSETFROM:+0200
TZOFFSETTO:+0100
TZNAME:CET
DTSTART:20261025T010000
END:STANDARD
END:VTIMEZONE
BEGIN:VEVENT
DTSTART;TZID=Europe/Zagreb:20260303T130000
DTEND;TZID=Europe/Zagreb:20260303T160000
DTSTAMP:20260421T141835
CREATED:20260302T092904Z
LAST-MODIFIED:20260302T092904Z
UID:7733-1772542800-1772553600@faust.izvrsna.hr
SUMMARY:Aktivnost 2.1. IZOBRAZBA FFOS za mentore
DESCRIPTION:Aktivnost 2.1. IZOBRAZBA FFOS za mentore 9. TEMA: Osnove 3D modeliranja 2 \nVrijeme: 13:00-16:00 \nLOKACIJA: online
URL:https://faust.izvrsna.hr/event/aktivnost-2-1-izobrazba-ffos-za-mentore/
LOCATION:ONLINE
CATEGORIES:Izobrazbe 2.1.
END:VEVENT
BEGIN:VEVENT
DTSTART;TZID=Europe/Zagreb:20260307T130000
DTEND;TZID=Europe/Zagreb:20260307T190000
DTSTAMP:20260421T141835
CREATED:20260302T093319Z
LAST-MODIFIED:20260302T093319Z
UID:7741-1772888400-1772910000@faust.izvrsna.hr
SUMMARY:Aktivnost 2.1. IZOBRAZBA FFOS za mentore TEMA10:
DESCRIPTION:Aktivnost 2.1. IZOBRAZBA FFOS za mentore TEMA10: Provođenje radionica 3D printanja 1/1 \nVrijeme: 13:00-19:00 \nLOKACIJA: RZC Adriatic\, Ruđera Boškovića 20\, 21000 Split
URL:https://faust.izvrsna.hr/event/aktivnost-2-1-izobrazba-ffos-za-mentore-tema10/
LOCATION:RZC ADRIATIK\, Ruđera Boškovića 20\, Split\, 21000\, Croatia
CATEGORIES:Izobrazbe 2.1.
END:VEVENT
END:VCALENDAR