BEGIN:VCALENDAR
VERSION:2.0
PRODID:-//FAUST - ECPv6.11.0.1//NONSGML v1.0//EN
CALSCALE:GREGORIAN
METHOD:PUBLISH
X-ORIGINAL-URL:https://faust.izvrsna.hr
X-WR-CALDESC:Events for FAUST
REFRESH-INTERVAL;VALUE=DURATION:PT1H
X-Robots-Tag:noindex
X-PUBLISHED-TTL:PT1H
BEGIN:VTIMEZONE
TZID:Europe/Zagreb
BEGIN:DAYLIGHT
TZOFFSETFROM:+0100
TZOFFSETTO:+0200
TZNAME:CEST
DTSTART:20260329T010000
END:DAYLIGHT
BEGIN:STANDARD
TZOFFSETFROM:+0200
TZOFFSETTO:+0100
TZNAME:CET
DTSTART:20261025T010000
END:STANDARD
END:VTIMEZONE
BEGIN:VEVENT
DTSTART;TZID=Europe/Zagreb:20260203T130000
DTEND;TZID=Europe/Zagreb:20260203T160000
DTSTAMP:20260421T154622
CREATED:20260203T080047Z
LAST-MODIFIED:20260203T080047Z
UID:7653-1770123600-1770134400@faust.izvrsna.hr
SUMMARY:Aktivnost 2.1. IZOBRAZBA FFOS za mentore (7.1)
DESCRIPTION:Aktivnost 2.1. IZOBRAZBA FFOS za mentore TEMA: Upravljanje dronovima u funkciji pametne poljoprivrede 1 \nVrijeme: 13:00-16:00 \nLOKACIJA: online
URL:https://faust.izvrsna.hr/event/aktivnost-2-1-izobrazba-ffos-za-mentore-7-1/
LOCATION:ONLINE
CATEGORIES:Izobrazbe 2.1.
END:VEVENT
BEGIN:VEVENT
DTSTART;TZID=Europe/Zagreb:20260205T130000
DTEND;TZID=Europe/Zagreb:20260205T160000
DTSTAMP:20260421T154622
CREATED:20260203T080146Z
LAST-MODIFIED:20260203T080146Z
UID:7655-1770296400-1770307200@faust.izvrsna.hr
SUMMARY:Aktivnost 2.1. IZOBRAZBA FFOS za mentore (7.2)
DESCRIPTION:Aktivnost 2.1. IZOBRAZBA FFOS za mentore TEMA: Upravljanje dronovima u funkciji pametne poljoprivrede 2 \nVrijeme: 13:00-16:00 \nLOKACIJA: online
URL:https://faust.izvrsna.hr/event/aktivnost-2-1-izobrazba-ffos-za-mentore-7-2/
LOCATION:ONLINE
CATEGORIES:Izobrazbe 2.1.
END:VEVENT
BEGIN:VEVENT
DTSTART;TZID=Europe/Zagreb:20260217T130000
DTEND;TZID=Europe/Zagreb:20260217T160000
DTSTAMP:20260421T154622
CREATED:20260203T081231Z
LAST-MODIFIED:20260203T081231Z
UID:7670-1771333200-1771344000@faust.izvrsna.hr
SUMMARY:Aktivnost 2.1. IZOBRAZBA FFOS za mentore (8.1)
DESCRIPTION:Aktivnost 2.1. IZOBRAZBA FFOS za mentore TEMA: Dronovi u svijetu e-sporta 1 \nVrijeme: 13:00-16:00 \nLOKACIJA: online
URL:https://faust.izvrsna.hr/event/aktivnost-2-1-izobrazba-ffos-za-mentore-8-1/
LOCATION:ONLINE
CATEGORIES:Izobrazbe 2.1.
END:VEVENT
BEGIN:VEVENT
DTSTART;TZID=Europe/Zagreb:20260219T130000
DTEND;TZID=Europe/Zagreb:20260219T160000
DTSTAMP:20260421T154622
CREATED:20260203T081320Z
LAST-MODIFIED:20260203T081320Z
UID:7672-1771506000-1771516800@faust.izvrsna.hr
SUMMARY:Aktivnost 2.1. IZOBRAZBA FFOS za mentore (8.2)
DESCRIPTION:Aktivnost 2.1. IZOBRAZBA FFOS za mentore TEMA: Dronovi u svijetu e-sporta 2 \nVrijeme: 13:00-16:00 \nLOKACIJA: online
URL:https://faust.izvrsna.hr/event/aktivnost-2-1-izobrazba-ffos-za-mentore-8-2/
LOCATION:ONLINE
CATEGORIES:Izobrazbe 2.1.
END:VEVENT
BEGIN:VEVENT
DTSTART;TZID=Europe/Zagreb:20260225T130000
DTEND;TZID=Europe/Zagreb:20260225T160000
DTSTAMP:20260421T154622
CREATED:20260203T081926Z
LAST-MODIFIED:20260225T080913Z
UID:7684-1772024400-1772035200@faust.izvrsna.hr
SUMMARY:OTKAZANO! Aktivnost 2.1. IZOBRAZBA FFOS za mentore (9.1)
DESCRIPTION:Aktivnost 2.1. IZOBRAZBA FFOS za mentore TEMA: Osnove 3D modeliranja 1 \nVrijeme: 13:00-16:00 \nLOKACIJA: online
URL:https://faust.izvrsna.hr/event/aktivnost-2-1-izobrazba-ffos-za-mentore-9-1/
LOCATION:ONLINE
CATEGORIES:Izobrazbe 2.1.
END:VEVENT
BEGIN:VEVENT
DTSTART;TZID=Europe/Zagreb:20260226T130000
DTEND;TZID=Europe/Zagreb:20260226T160000
DTSTAMP:20260421T154622
CREATED:20260203T082015Z
LAST-MODIFIED:20260203T082015Z
UID:7686-1772110800-1772121600@faust.izvrsna.hr
SUMMARY:Aktivnost 2.1. IZOBRAZBA FFOS za mentore (9.2)
DESCRIPTION:Aktivnost 2.1. IZOBRAZBA FFOS za mentore TEMA: Osnove 3D modeliranja 2 \nVrijeme: 13:00-16:00 \nLOKACIJA: online
URL:https://faust.izvrsna.hr/event/aktivnost-2-1-izobrazba-ffos-za-mentore-9-2/
LOCATION:ONLINE
CATEGORIES:Izobrazbe 2.1.
END:VEVENT
END:VCALENDAR