BEGIN:VCALENDAR
VERSION:2.0
PRODID:-//FAUST - ECPv6.11.0.1//NONSGML v1.0//EN
CALSCALE:GREGORIAN
METHOD:PUBLISH
X-WR-CALNAME:FAUST
X-ORIGINAL-URL:https://faust.izvrsna.hr
X-WR-CALDESC:Events for FAUST
REFRESH-INTERVAL;VALUE=DURATION:PT1H
X-Robots-Tag:noindex
X-PUBLISHED-TTL:PT1H
BEGIN:VTIMEZONE
TZID:Europe/Zagreb
BEGIN:DAYLIGHT
TZOFFSETFROM:+0100
TZOFFSETTO:+0200
TZNAME:CEST
DTSTART:20250330T010000
END:DAYLIGHT
BEGIN:STANDARD
TZOFFSETFROM:+0200
TZOFFSETTO:+0100
TZNAME:CET
DTSTART:20251026T010000
END:STANDARD
END:VTIMEZONE
BEGIN:VEVENT
DTSTART;TZID=Europe/Zagreb:20251205T180000
DTEND;TZID=Europe/Zagreb:20251205T210000
DTSTAMP:20260421T183032
CREATED:20251208T081649Z
LAST-MODIFIED:20251208T081649Z
UID:7589-1764957600-1764968400@faust.izvrsna.hr
SUMMARY:Aktivnost 2.1.
DESCRIPTION:Aktivnost 2.1. IZOBRAZBA FFOS za mentore TEMA: Nadoknada propuštenih radionica \nVrijeme: 18:00-21:00 \nLOKACIJA: Radisson Blu Resort & Spa\, Split\, Dvorana Palma 1
URL:https://faust.izvrsna.hr/event/aktivnost-2-1/
LOCATION:Radisson Blu Hotel\, Put Trstenika 19\, Split\, Croatia (Local Name: Hrvatska)
CATEGORIES:Izobrazbe 2.1.
END:VEVENT
BEGIN:VEVENT
DTSTART;TZID=Europe/Zagreb:20251206T110000
DTEND;TZID=Europe/Zagreb:20251206T140000
DTSTAMP:20260421T183032
CREATED:20251208T081750Z
LAST-MODIFIED:20251208T081750Z
UID:7592-1765018800-1765029600@faust.izvrsna.hr
SUMMARY:Aktivnost 2.1.
DESCRIPTION:Aktivnost 2.1. IZOBRAZBA FFOS za mentore TEMA: Nadokanada propuštenih radionica \nVrijeme: 11:00-14::00 \nLOKACIJA: Radisson Blu Resort & Spa\, Split\, Dvorana Palma 1
URL:https://faust.izvrsna.hr/event/aktivnost-2-1-2/
LOCATION:Radisson Blu Hotel\, Put Trstenika 19\, Split\, Croatia (Local Name: Hrvatska)
CATEGORIES:Izobrazbe 2.1.
END:VEVENT
END:VCALENDAR