BEGIN:VCALENDAR
VERSION:2.0
PRODID:-//FAUST - ECPv6.11.0.1//NONSGML v1.0//EN
CALSCALE:GREGORIAN
METHOD:PUBLISH
X-WR-CALNAME:FAUST
X-ORIGINAL-URL:https://faust.izvrsna.hr
X-WR-CALDESC:Events for FAUST
REFRESH-INTERVAL;VALUE=DURATION:PT1H
X-Robots-Tag:noindex
X-PUBLISHED-TTL:PT1H
BEGIN:VTIMEZONE
TZID:Europe/Zagreb
BEGIN:DAYLIGHT
TZOFFSETFROM:+0100
TZOFFSETTO:+0200
TZNAME:CEST
DTSTART:20250330T010000
END:DAYLIGHT
BEGIN:STANDARD
TZOFFSETFROM:+0200
TZOFFSETTO:+0100
TZNAME:CET
DTSTART:20251026T010000
END:STANDARD
END:VTIMEZONE
BEGIN:VEVENT
DTSTART;TZID=Europe/Zagreb:20251015T150000
DTEND;TZID=Europe/Zagreb:20251015T180000
DTSTAMP:20260421T213341
CREATED:20251015T200034Z
LAST-MODIFIED:20251015T200034Z
UID:7539-1760540400-1760551200@faust.izvrsna.hr
SUMMARY:Izobrazbe 2.1. 5.1.
DESCRIPTION:Aktivnost 2.1. IZOBRAZBA FFOS za mentore TEMA: Robotika kroz igru (Lego Spike Prime set i DroneBlocks Web App) 1/2 Vrijeme: 15:00-18:00 LOKACIJA: RZC Adriatic\, R.Boškovića 20 Split
URL:https://faust.izvrsna.hr/event/izobrazbe-2-1-5-1/
LOCATION:RZC ADRIATIK\, Ruđera Boškovića 20\, Split\, 21000\, Croatia
CATEGORIES:Izobrazbe 2.1.
END:VEVENT
BEGIN:VEVENT
DTSTART;TZID=Europe/Zagreb:20251016T150000
DTEND;TZID=Europe/Zagreb:20251016T180000
DTSTAMP:20260421T213341
CREATED:20251015T200134Z
LAST-MODIFIED:20251015T200134Z
UID:7541-1760626800-1760637600@faust.izvrsna.hr
SUMMARY:Izobrazbe 2.1. 5.2.
DESCRIPTION:Aktivnost 2.1. IZOBRAZBA FFOS za mentore TEMA: Robotika kroz igru (Lego Spike Prime set i DroneBlocks Web App) 2/2 Vrijeme: 15:00-18:00 LOKACIJA: RZC Adriatic\, R.Boškovića 20 Split
URL:https://faust.izvrsna.hr/event/izobrazbe-2-1-5-2/
LOCATION:RZC ADRIATIK\, Ruđera Boškovića 20\, Split\, 21000\, Croatia
CATEGORIES:Izobrazbe 2.1.
END:VEVENT
END:VCALENDAR