BEGIN:VCALENDAR
VERSION:2.0
PRODID:-//FAUST - ECPv6.11.0.1//NONSGML v1.0//EN
CALSCALE:GREGORIAN
METHOD:PUBLISH
X-WR-CALNAME:FAUST
X-ORIGINAL-URL:https://faust.izvrsna.hr
X-WR-CALDESC:Events for FAUST
REFRESH-INTERVAL;VALUE=DURATION:PT1H
X-Robots-Tag:noindex
X-PUBLISHED-TTL:PT1H
BEGIN:VTIMEZONE
TZID:Europe/Zagreb
BEGIN:DAYLIGHT
TZOFFSETFROM:+0100
TZOFFSETTO:+0200
TZNAME:CEST
DTSTART:20250330T010000
END:DAYLIGHT
BEGIN:STANDARD
TZOFFSETFROM:+0200
TZOFFSETTO:+0100
TZNAME:CET
DTSTART:20251026T010000
END:STANDARD
END:VTIMEZONE
BEGIN:VEVENT
DTSTART;TZID=Europe/Zagreb:20250917T170000
DTEND;TZID=Europe/Zagreb:20250917T200000
DTSTAMP:20260421T230741
CREATED:20250909T185026Z
LAST-MODIFIED:20250909T185026Z
UID:7515-1758128400-1758139200@faust.izvrsna.hr
SUMMARY:Izobrazba 2.1.  Tema 4
DESCRIPTION:Aktivnost 2.1. \nIZOBRAZBA FFOS za mentore \n  \nTEMA 4.1: Automatizacija i analiza podataka programiranjem (Python) Vrijeme: 17:00-20:00 (online)
URL:https://faust.izvrsna.hr/event/izobrazba-2-1-tema-4/
LOCATION:ONLINE
CATEGORIES:Izobrazbe 2.1.
END:VEVENT
BEGIN:VEVENT
DTSTART;TZID=Europe/Zagreb:20250918T170000
DTEND;TZID=Europe/Zagreb:20250918T200000
DTSTAMP:20260421T230741
CREATED:20250909T185228Z
LAST-MODIFIED:20250909T185408Z
UID:7518-1758214800-1758225600@faust.izvrsna.hr
SUMMARY:Izobrazba 2.1. Tema 4.2.
DESCRIPTION:Aktivnost 2.1.\nIZOBRAZBA FFOS za mentore\nTEMA 4: Automatizacija i analiza\npodataka programiranjem\n(Python)\nVrijeme: 17:00-20:00\n(online)
URL:https://faust.izvrsna.hr/event/izobrazba-2-1-tema-4-2/
LOCATION:ONLINE
CATEGORIES:Izobrazbe 2.1.
END:VEVENT
END:VCALENDAR